BEGIN:VCALENDAR
VERSION:2.0
PRODID:-//NTAREI.com - ECPv6.15.20//NONSGML v1.0//EN
CALSCALE:GREGORIAN
METHOD:PUBLISH
X-ORIGINAL-URL:https://ntarei.com
X-WR-CALDESC:Events for NTAREI.com
REFRESH-INTERVAL;VALUE=DURATION:PT1H
X-Robots-Tag:noindex
X-PUBLISHED-TTL:PT1H
BEGIN:VTIMEZONE
TZID:America/Chicago
BEGIN:DAYLIGHT
TZOFFSETFROM:-0600
TZOFFSETTO:-0500
TZNAME:CDT
DTSTART:20230312T080000
END:DAYLIGHT
BEGIN:STANDARD
TZOFFSETFROM:-0500
TZOFFSETTO:-0600
TZNAME:CST
DTSTART:20231105T070000
END:STANDARD
BEGIN:DAYLIGHT
TZOFFSETFROM:-0600
TZOFFSETTO:-0500
TZNAME:CDT
DTSTART:20240310T080000
END:DAYLIGHT
BEGIN:STANDARD
TZOFFSETFROM:-0500
TZOFFSETTO:-0600
TZNAME:CST
DTSTART:20241103T070000
END:STANDARD
BEGIN:DAYLIGHT
TZOFFSETFROM:-0600
TZOFFSETTO:-0500
TZNAME:CDT
DTSTART:20250309T080000
END:DAYLIGHT
BEGIN:STANDARD
TZOFFSETFROM:-0500
TZOFFSETTO:-0600
TZNAME:CST
DTSTART:20251102T070000
END:STANDARD
END:VTIMEZONE
BEGIN:VEVENT
DTSTART;TZID=America/Chicago:20241017T183000
DTEND;TZID=America/Chicago:20241017T210000
DTSTAMP:20260420T035123
CREATED:20241010T025901Z
LAST-MODIFIED:20241010T030114Z
UID:30772-1729189800-1729198800@ntarei.com
SUMMARY:GENERAL MEETING-Octobber
DESCRIPTION:Happy Hour Social – Networking Mixer \n\n\n\n\n \n               \n           \n         \n        \n          \n        \n    \n\n \n        \n          \n        \n             \n                \n                    \n        \n                        \n                            \n                                \n            \n                                    \n                                        \n                                            \n\n\n\n\nComing Next Week – Mark Your Calendar – Don’t Miss It ! \n\n\n\n\n\nDoor Prize Drawing.An Official US Silver Eagle.A minimum 0f One Troy Once of.999 Pure Silver.Everyone has a chance to Win. \n\n\n\n\n\n\n\n\n\n\n\n\n\nCome Connect with the Successful Pros in the NTX market. \n\n\n\n\n\n\n\nComplimentary Food — No Admission Charge — Cash Bar \n For Investors + Landlords + Real Estate Professionals and Vendors. \n\n\n\n\n\n\n                                                \n                                                    \n                                                        \n\n                                                            \n                                                                \n                                                                    \n\n                                                                        \n                                                                        \n                                                                            \n                                                                                \n                                                                                    \n                                                                                \n                                                                                \n                                                                                    \n                                                                                \n                                                                            \n                                                                        \n                                                                        \n                                                                        \n                                                                            G\n                                                                            ENERAL \n                                                                            M\n                                                                            EETING\n                                                                         \n                                                                      \n\n                                                                            Join us for our GENERAL MEETING as a\n                                                                         \n\n                                                                            Happy Hour Social – Mega Networking\n                                                                                                                                                 \n\n\n                                                                            Join us for a great casual evening with a room full of investors\, landlords\, and investor-friendly vendors.\n                                                                         \n                                                                        \n                                                                            . \n                                                                         \n                                                                        \n                                                                        \n                                                                            Thurs. –\n                                                                             Oct. 17\n                                                                             \n                                                                            ………. \n                                                                            \n                                                                        \n                                                                            North Texas Association of Real Estate Investors\n                                                                         \n                                                                    \n                                                                \n                                                            \n                                                        \n                                                        \n                                                            \n                                                            \n                                                                \n                                                                    \n                                                                    \n                                                                    \n                                                                \n                                                            \n                                                        \n                                                    \n                                                \n\n\n                                                \n                                                    \n                                                        \n                                                             \n                                                        \n                                                    \n                                                \n\n\n\n\n\nOur Expert “Co-Hosts” \n\n\n\nattending this Networking Social will be looking forward to meeting and \nvisiting with you at this fun mixer. \n\n\n\n\nRod Hanks\, Hanks Group Insurance\n\n\n\nMindy Henderson\, Property Manager\n\n\n\nScott Horne\, Real Eastate Attorney\n\n\n\nSusan Tierney\, Scott Horne’s Owner Financing Network\n\n\n\nMark Fedderson\, Rehabber\, Wholesaler\, Lender\, Mentor\n\n\n\nJim Waters\, De Moda Floors\n\n\n\n\n\n\n\n\n\n\n\n\n\n\n\n\n\n\n\n\n\n\n\n\n\n\n\n\n\n\n\n\n\n\n\n\nAt the Iconic Hospitalty Venue \n\n\n\nNo-Charge Admission — No-cost Lighted Parking— For everyone. — \n\n\n\n6:30 – 9:00 pm \n\n\n\nWelcoming you at Addison’s Quality Restaraunt & Bar – \n\n\n\nOn the Border \n\n\n\nRestaurant and Cantina \n\n\n\n4855 Belt Line Rd.\, Addison 75254 \n\n\n\n972-392-4600 \n\n\n\nTREAT YOURSELF — Relax and Enjoy your Summer. \n\n\n\n\n\nCome Meet New People\,and Discover New Opportunities. \n\n\n\nNetworking = It’s all about ” Who You Know ” (…and who they know\, …and who knows you.)(Think of it like a treasure hunt.) \n\n\n\n\n\n\n\n\n\n\n\nBring Your Business Cards !! \n\n\n\n\n\n\n\n \n\n\n\nPlease consider using our Corporate Sponsors \n\n\nS P O N S O R SThese established local vendors understand the special needs of investors\, and have the ability and commitment to serve those needs with professional skills and quality services. NotesCapricorn Mortgage InvestmentsBuying and Selling\n\nKristin Gerst\,\n\n972-767-9219.\n\nGo to CapricornMortgageInvestments.com OFF MARKET Leads ServiceForeclosures DailyOFF-MARKET Leads Service\n\nKatrina Deitelhoff\n\n(813) 563-0005 ext 1 Third-Party Loan ServicingAugust REI\, LLCThird-Party Loan Servicing Specialists.\n\nLicensed and Bonded.\n\nWe report payments to the Credit Bureaus.\n\nAmy Sayre\,\n\n972-767-9219. amy@augustrei.com\n\nGo to AugustREI.com InsuranceHANKS GROUPInsurance services for Investors________\nby an Active Investor\, _________________\nRod Hanks\, ____________________\n214-275-8372. _________________\nhanksr@sbcglobal.net Deal Maker / MentorMark FeddersonDeal Maker / Mentor ______________\nMentor\, Lender ____________________\n972-979-3516 _________________\nmfedderson@sbcglobal.net  InspectorsProspect InspectingLicensed Professional Inspectors\n\n- serving NT investors for more than 10 years.\nLee Warren\, Licensed Inspector\, 469-682-0341. Lee@prospectinspectors.com\n\nGo to ProspectInspectors.com.\n\n  Flooring and DesignDe Moda FloorsYour local wholesale flooring supplier – with prices and local inventory to allow you to keep your costs low and improve your bottom-line.\nBrett Waters  - 214-484-5015  - brettw@conceptosdemoda.com Repairs EstimatingHouse HackerRepairs Estimating System\ndeveloped by James Hill.\nGo to TheRehabGuys.com. 1031 QUALIFIED INTERMEDIARYExchange Resource GroupLu Ann Blough\,\n\n972-767-9219.\n\nGo to ERG1031.com LenderDFW Investor Lending LLCYour DFW lending partner for private lending solutions.\nSpecializing in asset based loans to real estate investors for acquisition and rehab. 20 Years Experience in North Texas.\nYour direct access to the cash.\nFrank Friesenhahn:972-365-626\nfrank@dfwil.com\nGo to DFWInvestorLending.com\n\n 
URL:https://ntarei.com/event/general-meeting-octobber/
LOCATION:On the Border\, 4855 Belt Line Rd\, Addison\, TX\, United States
CATEGORIES:General Meetings,Happy Hour
ATTACH;FMTTYPE=image/jpeg:https://ntarei.com/wp-content/uploads/2024/09/OTB-Food-and-Drinks.jpg
END:VEVENT
END:VCALENDAR